BEGIN:VCALENDAR
VERSION:2.0
PRODID:-//eventon.com NONSGML v1.0//EN
CALSCALE:GREGORIAN
METHOD:PUBLISH
BEGIN:VEVENT
UID:69e74df5bc2b2
DTSTAMP:20260421T101413Z
DTSTART:20260807
DTEND:20260808
LOCATION:
SUMMARY:Sommerzeltlager
DESCRIPTION:Sommerzeltlager
URL:https://www.feuerwehr-kirchhorst-stelle.de/events/sommerzeltlager/
END:VEVENT
END:VCALENDAR