BEGIN:VCALENDAR
VERSION:2.0
PRODID:-//eventon.com NONSGML v1.0//EN
CALSCALE:GREGORIAN
METHOD:PUBLISH
BEGIN:VEVENT
UID:69e89dd60d381
DTSTAMP:20260422T100718Z
DTSTART:20261219T090000Z
DTEND:20261219T110000Z
LOCATION:
SUMMARY:Übungsdienst
DESCRIPTION:Übungsdienst
URL:https://www.feuerwehr-kirchhorst-stelle.de/events/uebungsdienst-8/
END:VEVENT
END:VCALENDAR